BEGIN:VCALENDAR
VERSION:2.0
PRODID:-//ChamberMaster//Event Calendar 2.0//EN
METHOD:PUBLISH
X-PUBLISHED-TTL:P1H
REFRESH-INTERVAL:P1H
CALSCALE:GREGORIAN
BEGIN:VTIMEZONE
TZID:America/Denver
BEGIN:DAYLIGHT
RRULE:FREQ=YEARLY;BYMONTH=3;BYDAY=2SU
DTSTART:20070101T000000
TZOFFSETFROM:-0700
TZOFFSETTO:-0600
TZNAME:Mountain Daylight Time
END:DAYLIGHT
BEGIN:STANDARD
RRULE:FREQ=YEARLY;BYMONTH=11;BYDAY=1SU
DTSTART:20070101T000000
TZOFFSETFROM:-0600
TZOFFSETTO:-0700
TZNAME:Mountain Standard Time
END:STANDARD
END:VTIMEZONE
BEGIN:VEVENT
DTSTART;TZID=America/Denver:20260618T170000
DTEND;TZID=America/Denver:20260618T193000
X-MICROSOFT-CDO-ALLDAYEVENT:FALSE
SUMMARY:2026 Multi-Chamber Mixer
DESCRIPTION:🎉 Join Us for the 2026 Multi-Chamber Mixer!🎉 Four Chambers. One Powerful Night of Connection.The Greater Pueblo Chamber of Commerce\, Latino Chamber of Commerce\, Pueblo West Chamber of Commerce\, and the Royal Gorge Chamber Alliance are joining forces for a dynamic Multi-Chamber Mixer focused on strategic networking\, collaboration\, and business growth.   Join us as we bring together professionals and business leaders from across the region for a premier multi-chamber event designed to foster connection\, spark opportunity\, and support business development.   Date: Thursday\, June 18\, 2026 Time: 5:00 PM   7:00 PM Location: Pueblo Toyota Riverwalk Boathouse   Event Highlights:   Enjoy Pueblo's newest Riverwalk venue\, the Rooftop Deck of the Boathouse    Expanded networking opportunities with members of multiple Chambers    Exclusive giveaways and special promotions    Complimentary hors d'oeuvres and TWO cocktails    \nTickets: $10.00 per person Limited to 150 attendees   early registration is encouraged!
X-ALT-DESC;FMTTYPE=text/html:<!DOCTYPE html><html><head><title></title></head><body aria-disabled="false"><p>🎉 Join Us for the 2026 Multi-Chamber Mixer!🎉 Four Chambers. One Powerful Night of Connection.</p><p>The Greater Pueblo Chamber of Commerce\, Latino Chamber of Commerce\, Pueblo West Chamber of Commerce\, and the Royal Gorge Chamber Alliance are joining forces for a dynamic Multi-Chamber Mixer focused on strategic networking\, collaboration\, and business growth. &nbsp\;&nbsp\;</p><p>Join us as we bring together professionals and business leaders from across the region for a premier multi-chamber event designed to foster connection\, spark opportunity\, and support business development.&nbsp\;</p><p>&nbsp\; Date: Thursday\, June 18\, 2026 Time: 5:00 PM &ndash\; 7:00 PM Location: Pueblo Toyota Riverwalk Boathouse&nbsp\;</p><p>&nbsp\; Event Highlights:&nbsp\;</p><p>&bull\; Enjoy Pueblo&#39\;s newest Riverwalk venue\, the Rooftop Deck of the Boathouse&nbsp\;</p><p>&nbsp\;&bull\; Expanded networking opportunities with members of multiple Chambers &nbsp\;</p><p>&bull\; Exclusive giveaways and special promotions &nbsp\;</p><p>&bull\; Complimentary hors d&#39\;oeuvres and TWO cocktails &nbsp\; &nbsp\;</p><p><br></p><p>Tickets: $10.00 per person Limited to 150 attendees &ndash\; early registration is encouraged!</p></body></html>
LOCATION:130 Riverwalk Place Pueblo 81003
UID:e.2245.1443017
SEQUENCE:3
DTSTAMP:20260422T120128Z
URL:https://business.pueblochamber.org/eventcalendar/Details/2026-multi-chamber-mixer-1709125?sourceTypeId=Hub
END:VEVENT
END:VCALENDAR
