BEGIN:VCALENDAR
VERSION:2.0
PRODID:-//ChamberMaster//Event Calendar 2.0//EN
METHOD:PUBLISH
X-PUBLISHED-TTL:P1H
REFRESH-INTERVAL:P1H
CALSCALE:GREGORIAN
BEGIN:VTIMEZONE
TZID:America/Denver
BEGIN:DAYLIGHT
RRULE:FREQ=YEARLY;BYMONTH=3;BYDAY=2SU
DTSTART:20070101T000000
TZOFFSETFROM:-0700
TZOFFSETTO:-0600
TZNAME:Mountain Daylight Time
END:DAYLIGHT
BEGIN:STANDARD
RRULE:FREQ=YEARLY;BYMONTH=11;BYDAY=1SU
DTSTART:20070101T000000
TZOFFSETFROM:-0600
TZOFFSETTO:-0700
TZNAME:Mountain Standard Time
END:STANDARD
END:VTIMEZONE
BEGIN:VEVENT
DTSTART;TZID=America/Denver:20260414T120000
DTEND;TZID=America/Denver:20260414T130000
X-MICROSOFT-CDO-ALLDAYEVENT:FALSE
SUMMARY:2026 Ambassador Lunch-April
DESCRIPTION:Feelin' A Little Philly
X-ALT-DESC;FMTTYPE=text/html:Feelin' A Little Philly
LOCATION:302 N. Santa Fe. Ave. Pueblo CO 81003
UID:e.2245.1439308
SEQUENCE:3
DTSTAMP:20260422T104642Z
URL:https://business.pueblochamber.org/eventcalendar/Details/2026-ambassador-lunch-april-1703707?sourceTypeId=Hub
END:VEVENT
END:VCALENDAR
