BEGIN:VCALENDAR
VERSION:2.0
PRODID:-//ChamberMaster//Event Calendar 2.0//EN
METHOD:PUBLISH
X-PUBLISHED-TTL:P1H
REFRESH-INTERVAL:P1H
CALSCALE:GREGORIAN
BEGIN:VTIMEZONE
TZID:America/Denver
BEGIN:DAYLIGHT
RRULE:FREQ=YEARLY;BYMONTH=3;BYDAY=2SU
DTSTART:20070101T000000
TZOFFSETFROM:-0700
TZOFFSETTO:-0600
TZNAME:Mountain Daylight Time
END:DAYLIGHT
BEGIN:STANDARD
RRULE:FREQ=YEARLY;BYMONTH=11;BYDAY=1SU
DTSTART:20070101T000000
TZOFFSETFROM:-0600
TZOFFSETTO:-0700
TZNAME:Mountain Standard Time
END:STANDARD
END:VTIMEZONE
BEGIN:VEVENT
DTSTART;TZID=America/Denver:20260820T170000
DTEND;TZID=America/Denver:20260820T190000
X-MICROSOFT-CDO-ALLDAYEVENT:FALSE
SUMMARY:2026 BAH August Sponsor Salt & Sprig
DESCRIPTION:BAH
X-ALT-DESC;FMTTYPE=text/html:BAH
LOCATION:Pueblo CO
UID:e.2245.1295712
SEQUENCE:3
DTSTAMP:20260422T104642Z
URL:https://business.pueblochamber.org/eventcalendar/Details/2026-bah-august-sponsor-salt-sprig-1516463?sourceTypeId=Hub
END:VEVENT
END:VCALENDAR
