BEGIN:VCALENDAR
VERSION:2.0
PRODID:-//ChamberMaster//Event Calendar 2.0//EN
METHOD:PUBLISH
X-PUBLISHED-TTL:P1H
REFRESH-INTERVAL:P1H
CALSCALE:GREGORIAN
BEGIN:VTIMEZONE
TZID:America/Denver
BEGIN:DAYLIGHT
RRULE:FREQ=YEARLY;BYMONTH=3;BYDAY=2SU
DTSTART:20070101T000000
TZOFFSETFROM:-0700
TZOFFSETTO:-0600
TZNAME:Mountain Daylight Time
END:DAYLIGHT
BEGIN:STANDARD
RRULE:FREQ=YEARLY;BYMONTH=11;BYDAY=1SU
DTSTART:20070101T000000
TZOFFSETFROM:-0600
TZOFFSETTO:-0700
TZNAME:Mountain Standard Time
END:STANDARD
END:VTIMEZONE
BEGIN:VEVENT
DTSTART;TZID=America/Denver:20260506T170000
DTEND;TZID=America/Denver:20260506T190000
X-MICROSOFT-CDO-ALLDAYEVENT:FALSE
SUMMARY:Business After Hours: The Koncilja Family
DESCRIPTION:History looks good on you\, Pueblo.Come celebrate the Koncilja family\, the 2026 Dana Crawford Award recipients\, at the Greater Pueblo Chamber's Business After Hours\, and enjoy hors d'oeuvres\, cocktails\, live music\, and a short film.RSVP by May 4th at 719-542-1704 or pueblochamber.org
X-ALT-DESC;FMTTYPE=text/html:<!DOCTYPE html><html><head><title></title></head><body aria-disabled="false"><p>History looks good on you\, Pueblo.</p><p>Come celebrate the Koncilja family\, the <strong fr-original-style="" style="font-weight: 700\;">2026 Dana Crawford Award recipients\,</strong> at the Greater Pueblo Chamber&#39\;s Business After Hours\, and enjoy hors d&#39\;oeuvres\, cocktails\, live music\, and a short film.</p><p>RSVP by <strong fr-original-style="" style="font-weight: 700\;">May 4th</strong> at <strong fr-original-style="" style="font-weight: 700\;">719-542-1704</strong> or <strong fr-original-style="" style="font-weight: 700\;">pueblochamber.org</strong></p></body></html>
LOCATION:132 W. B Street Pueblo CO 81003
UID:e.2245.1442984
SEQUENCE:3
DTSTAMP:20260422T104706Z
URL:https://business.pueblochamber.org/eventcalendar/Details/business-after-hours-the-koncilja-family-1709072?sourceTypeId=Hub
END:VEVENT
END:VCALENDAR
